BEGIN:VCALENDAR
VERSION:2.0
PRODID:-//Cuba Bonaire - ECPv6.15.20//NONSGML v1.0//EN
CALSCALE:GREGORIAN
METHOD:PUBLISH
X-ORIGINAL-URL:https://cubacompagniebonaire.nl
X-WR-CALDESC:Events for Cuba Bonaire
REFRESH-INTERVAL;VALUE=DURATION:PT1H
X-Robots-Tag:noindex
X-PUBLISHED-TTL:PT1H
BEGIN:VTIMEZONE
TZID:Europe/Amsterdam
BEGIN:DAYLIGHT
TZOFFSETFROM:+0100
TZOFFSETTO:+0200
TZNAME:CEST
DTSTART:20240331T010000
END:DAYLIGHT
BEGIN:STANDARD
TZOFFSETFROM:+0200
TZOFFSETTO:+0100
TZNAME:CET
DTSTART:20241027T010000
END:STANDARD
BEGIN:DAYLIGHT
TZOFFSETFROM:+0100
TZOFFSETTO:+0200
TZNAME:CEST
DTSTART:20250330T010000
END:DAYLIGHT
BEGIN:STANDARD
TZOFFSETFROM:+0200
TZOFFSETTO:+0100
TZNAME:CET
DTSTART:20251026T010000
END:STANDARD
BEGIN:DAYLIGHT
TZOFFSETFROM:+0100
TZOFFSETTO:+0200
TZNAME:CEST
DTSTART:20260329T010000
END:DAYLIGHT
BEGIN:STANDARD
TZOFFSETFROM:+0200
TZOFFSETTO:+0100
TZNAME:CET
DTSTART:20261025T010000
END:STANDARD
END:VTIMEZONE
BEGIN:VTIMEZONE
TZID:America/Curacao
BEGIN:STANDARD
TZOFFSETFROM:-0400
TZOFFSETTO:-0400
TZNAME:AST
DTSTART:20240101T000000
END:STANDARD
END:VTIMEZONE
BEGIN:VEVENT
DTSTART;TZID=Europe/Amsterdam:20251225T170000
DTEND;TZID=Europe/Amsterdam:20251226T230000
DTSTAMP:20260419T172118
CREATED:20251217T085345Z
LAST-MODIFIED:20251217T090536Z
UID:10000571-1766682000-1766790000@cubacompagniebonaire.nl
SUMMARY:Christmas Menu 2025
DESCRIPTION:Our Christmas Menu for 2025! \nGEROOKTE EENDENBORST\ngereserveerd met waldorf salade en een bosvruchten dressing\nSMOKED DUCK BREAST\nserved with waldorf salad and a forestfruit dressing \nWILDBOULLION\nmet paddenstoelen\, bosui en groene kruiden\nWILD BROTH\nwith mushrooms\, spring onion and green herbs \nHERTENSTOOF\ngeserveerd met rode kool\, pommes duchesse\nen krokantjes van wortel\nDEER STEW\nserved with red cabbage\, pommes duchesse\nand carrot crisps \nCHOCOLADE TRIO\nchocolade mouse\, witte chocolade ijs\nen gebakken chocolade\nCHOCOLATE TRIO\nchocolate mousse\, white chocolate ice cream\nand baked chocolate \n4 COURSE MENU $ 69.50
URL:https://cubacompagniebonaire.nl/event/christmas-menu-2025/
ATTACH;FMTTYPE=image/jpeg:https://cubacompagniebonaire.nl/wp-content/uploads/2025/12/christmas-cuba-bonaire-menu-2025.jpg
END:VEVENT
BEGIN:VEVENT
DTSTART;TZID=America/Curacao:20251225T213000
DTEND;TZID=America/Curacao:20251226T013000
DTSTAMP:20260419T172118
CREATED:20231102T111044Z
LAST-MODIFIED:20231209T161806Z
UID:10000117-1766698200-1766712600@cubacompagniebonaire.nl
SUMMARY:Latin Night
DESCRIPTION:First a bite to eat and then a drink and some dancing? At Cuba Compagnie you can find a various menu. We offer various typical Cuban dishes\, but also local and international dishes. There is something for everyone. We like to work with local products\, so our fish is caught by local fishermen. \nYou are very welcome to come and have a nice refreshing drink or cocktail. In addition to the standard cocktails\, we have a cocktail menu based on locally distilled drinks such as our Calabas colada. The local fruit “calabas” is growing in our own courtyard. \nEvery Thursday we have our Latin night from 9:30 am.\nCuba Company imagines itself in the atmosphere of Havana this evening. With cozy salsa and bachata music provided by our local DJs. Come have a dance and have a nice cold drink\, we’ll see you on Thursday!!
URL:https://cubacompagniebonaire.nl/event/latin-night/2025-12-25/
LOCATION:Cuba Bonaire\, 1 Kaya Grandi\, Kralendijk
ATTACH;FMTTYPE=image/jpeg:https://cubacompagniebonaire.nl/wp-content/uploads/2023/11/latin-night-event-cuba-bonaire.jpg
END:VEVENT
END:VCALENDAR