BEGIN:VCALENDAR
VERSION:2.0
PRODID:-//Cuba Bonaire - ECPv6.15.20//NONSGML v1.0//EN
CALSCALE:GREGORIAN
METHOD:PUBLISH
X-ORIGINAL-URL:https://cubacompagniebonaire.nl
X-WR-CALDESC:Events for Cuba Bonaire
REFRESH-INTERVAL;VALUE=DURATION:PT1H
X-Robots-Tag:noindex
X-PUBLISHED-TTL:PT1H
BEGIN:VTIMEZONE
TZID:Europe/Amsterdam
BEGIN:DAYLIGHT
TZOFFSETFROM:+0100
TZOFFSETTO:+0200
TZNAME:CEST
DTSTART:20240331T010000
END:DAYLIGHT
BEGIN:STANDARD
TZOFFSETFROM:+0200
TZOFFSETTO:+0100
TZNAME:CET
DTSTART:20241027T010000
END:STANDARD
BEGIN:DAYLIGHT
TZOFFSETFROM:+0100
TZOFFSETTO:+0200
TZNAME:CEST
DTSTART:20250330T010000
END:DAYLIGHT
BEGIN:STANDARD
TZOFFSETFROM:+0200
TZOFFSETTO:+0100
TZNAME:CET
DTSTART:20251026T010000
END:STANDARD
BEGIN:DAYLIGHT
TZOFFSETFROM:+0100
TZOFFSETTO:+0200
TZNAME:CEST
DTSTART:20260329T010000
END:DAYLIGHT
BEGIN:STANDARD
TZOFFSETFROM:+0200
TZOFFSETTO:+0100
TZNAME:CET
DTSTART:20261025T010000
END:STANDARD
END:VTIMEZONE
BEGIN:VTIMEZONE
TZID:America/Curacao
BEGIN:STANDARD
TZOFFSETFROM:-0400
TZOFFSETTO:-0400
TZNAME:AST
DTSTART:20240101T000000
END:STANDARD
END:VTIMEZONE
BEGIN:VEVENT
DTSTART;TZID=Europe/Amsterdam:20250925T170000
DTEND;TZID=Europe/Amsterdam:20251009T230000
DTSTAMP:20260419T201947
CREATED:20250929T135737Z
LAST-MODIFIED:20250929T135737Z
UID:10000558-1758819600-1760050800@cubacompagniebonaire.nl
SUMMARY:Bonaire Culinary Week 2025
DESCRIPTION:Bonaire is blessed by a high quality and very diverse Culinary Sector. Our passionate chefs create unique dishes and beverages based on the rich cultural and culinary heritage of the Island. Food Experiences are becoming a bigger and bigger part of the experience for visitors and locals alike. Come and taste what Bonaire has to offer! \nTo showcase our culinary wealth\, we organize a 15-day culinary event twice a year. It takes place on the entire island and gives the opportunity to discover the wide variety of restaurants Bonaire has to offer. The top of culinary hotspots on Bonaire have created an attractive Bonaire Culinary Week Special. Most participating restaurants will offer a 3-course menu for $45 but this may vary. The Bonaire Culinary Week is the perfect opportunity to try unique culinary experiences all over the island Bonaire. \nThe Bonaire Culinary Week\, organized by the Bonaire Culinair Foundation (Stichting Bonaire Culinair)\, is an initiative of enthusiastic local entrepreneurs who put Bonaire on the culinary world map. We can’t wait to kick off the event and make it a major success again! \nWe invite you to discover the culinary variety of Bonaire.
URL:https://cubacompagniebonaire.nl/event/bonaire-culinary-week-2025/
ATTACH;FMTTYPE=image/jpeg:https://cubacompagniebonaire.nl/wp-content/uploads/2025/09/bonaire-culinair-2025-fall.jpg
END:VEVENT
BEGIN:VEVENT
DTSTART;TZID=America/Curacao:20251009T213000
DTEND;TZID=America/Curacao:20251010T013000
DTSTAMP:20260419T201947
CREATED:20231102T111044Z
LAST-MODIFIED:20231209T161806Z
UID:10000106-1760045400-1760059800@cubacompagniebonaire.nl
SUMMARY:Latin Night
DESCRIPTION:First a bite to eat and then a drink and some dancing? At Cuba Compagnie you can find a various menu. We offer various typical Cuban dishes\, but also local and international dishes. There is something for everyone. We like to work with local products\, so our fish is caught by local fishermen. \nYou are very welcome to come and have a nice refreshing drink or cocktail. In addition to the standard cocktails\, we have a cocktail menu based on locally distilled drinks such as our Calabas colada. The local fruit “calabas” is growing in our own courtyard. \nEvery Thursday we have our Latin night from 9:30 am.\nCuba Company imagines itself in the atmosphere of Havana this evening. With cozy salsa and bachata music provided by our local DJs. Come have a dance and have a nice cold drink\, we’ll see you on Thursday!!
URL:https://cubacompagniebonaire.nl/event/latin-night/2025-10-09/
LOCATION:Cuba Bonaire\, 1 Kaya Grandi\, Kralendijk
ATTACH;FMTTYPE=image/jpeg:https://cubacompagniebonaire.nl/wp-content/uploads/2023/11/latin-night-event-cuba-bonaire.jpg
END:VEVENT
END:VCALENDAR